BEGIN:VCALENDAR
VERSION:2.0
PRODID:-//Unitre San Mauro//NONSGML kigkonsult.se iCalcreator 2.30.10//
CALSCALE:GREGORIAN
METHOD:PUBLISH
UID:fbb0f047-9d51-4492-9d1d-0ddb51dbffb4
X-WR-CALNAME:iCagenda
X-WR-CALDESC:Event Management Extension for Joomla!
X-WR-RELCALID:3E26604A-50F4-4449-8B3E-E4F4932D05B5
X-WR-TIMEZONE:UTC
BEGIN:VTIMEZONE
TZID:UTC
END:VTIMEZONE
BEGIN:VEVENT
UID:a9f2615b-0245-4d5e-a825-c9fc8dadea45
DTSTAMP:20260424T225331Z
CATEGORIES:Corsi e incontri
CLASS:PUBLIC
DESCRIPTION;ALTREP="CID:<FFFF__=0ABBE548DFE235B58f9e8a93d@coffeebean.com>":
 Orario lezione: 16.00 - 18.00
DTSTART:20230331T160000Z
DTEND:20230331T160000Z
GEO:00;0
LOCATION:
ORGANIZER:
SEQUENCE:1
SUMMARY:Alimentarsi con cura per prendersi cura. Fisiologia del benessere: 
 intestino regolare\, sonno e peso corporeo
TRANSP:OPAQUE
URL:https://www.unitresanmauro.it/index.php/component/icagenda/53-alimentar
 si-con-cura-per-prendersi-cura-fisiologia-del-benessere-intestino-regolare
 -sonno-e-peso-corporeo/2023-03-31-16-00
END:VEVENT
END:VCALENDAR
