BEGIN:VCALENDAR
VERSION:2.0
PRODID:-//Unitre San Mauro//NONSGML kigkonsult.se iCalcreator 2.30.10//
CALSCALE:GREGORIAN
METHOD:PUBLISH
UID:e512d494-bc11-4f0e-80e5-5043538c4d0d
X-WR-CALNAME:iCagenda
X-WR-CALDESC:Event Management Extension for Joomla!
X-WR-RELCALID:3E26604A-50F4-4449-8B3E-E4F4932D05B5
X-WR-TIMEZONE:UTC
BEGIN:VTIMEZONE
TZID:UTC
END:VTIMEZONE
BEGIN:VEVENT
UID:54fd90c3-34d0-494d-82d1-2a73067b20ba
DTSTAMP:20260425T003802Z
CATEGORIES:Corsi e incontri
CLASS:PUBLIC
DESCRIPTION;ALTREP="CID:<FFFF__=0ABBE548DFE235B58f9e8a93d@coffeebean.com>":
 Orario lezione: 16.00 - 18.00
DTSTART:20230224T160000Z
DTEND:20230224T160000Z
GEO:00;0
LOCATION:
ORGANIZER:
SEQUENCE:1
SUMMARY:La salute dell'anziano: a che punto siamo?
TRANSP:OPAQUE
URL:https://www.unitresanmauro.it/index.php/component/icagenda/57-la-salute
 -dellanziano-a-che-punto-siamo/2023-02-24-16-00
END:VEVENT
END:VCALENDAR
