BEGIN:VCALENDAR
VERSION:2.0
PRODID:-//Unitre San Mauro//NONSGML kigkonsult.se iCalcreator 2.30.10//
CALSCALE:GREGORIAN
METHOD:PUBLISH
UID:5a37768d-1968-441c-9261-10a684394dce
X-WR-CALNAME:iCagenda
X-WR-CALDESC:Event Management Extension for Joomla!
X-WR-RELCALID:3E26604A-50F4-4449-8B3E-E4F4932D05B5
X-WR-TIMEZONE:UTC
BEGIN:VTIMEZONE
TZID:UTC
END:VTIMEZONE
BEGIN:VEVENT
UID:e74cf5a1-6f4a-4a0f-a033-b2c5720c89d0
DTSTAMP:20260424T225014Z
CATEGORIES:Corsi e incontri
CLASS:PUBLIC
DESCRIPTION;ALTREP="CID:<FFFF__=0ABBE548DFE235B58f9e8a93d@coffeebean.com>":
 Orario lezione: 16.00 - 18.00
DTSTART:20230310T160000Z
DTEND:20230310T160000Z
GEO:00;0
LOCATION:
ORGANIZER:
SEQUENCE:1
SUMMARY:La salute dell'anziano: a che punto siamo?
TRANSP:OPAQUE
URL:https://www.unitresanmauro.it/index.php/component/icagenda/57-la-salute
 -dellanziano-a-che-punto-siamo/2023-03-10-16-00
END:VEVENT
END:VCALENDAR
