BEGIN:VCALENDAR
VERSION:2.0
PRODID:-//Unitre San Mauro//NONSGML kigkonsult.se iCalcreator 2.30.10//
CALSCALE:GREGORIAN
METHOD:PUBLISH
UID:51460182-925a-4d0a-a87e-552fd93cfeee
X-WR-CALNAME:iCagenda
X-WR-CALDESC:Event Management Extension for Joomla!
X-WR-RELCALID:3E26604A-50F4-4449-8B3E-E4F4932D05B5
X-WR-TIMEZONE:UTC
BEGIN:VTIMEZONE
TZID:UTC
END:VTIMEZONE
BEGIN:VEVENT
UID:39099fdb-96ef-47b7-b2e4-1e094bf4cdc7
DTSTAMP:20260424T224852Z
CATEGORIES:Corsi e incontri
CLASS:PUBLIC
DESCRIPTION;ALTREP="CID:<FFFF__=0ABBE548DFE235B58f9e8a93d@coffeebean.com>":
 Orario lezione: 16.00 - 18.00
DTSTART:20230303T160000Z
DTEND:20230303T160000Z
GEO:00;0
LOCATION:
ORGANIZER:
SEQUENCE:1
SUMMARY:Natura e fauna
TRANSP:OPAQUE
URL:https://www.unitresanmauro.it/index.php/component/icagenda/58-natura-e-
 fauna/2023-03-03-16-00
END:VEVENT
END:VCALENDAR
