BEGIN:VCALENDAR
VERSION:2.0
PRODID:-//Unitre San Mauro//NONSGML kigkonsult.se iCalcreator 2.30.10//
CALSCALE:GREGORIAN
METHOD:PUBLISH
UID:adf4bea3-346d-43b1-bc0c-fe2494f1904c
X-WR-CALNAME:iCagenda
X-WR-CALDESC:Event Management Extension for Joomla!
X-WR-RELCALID:3E26604A-50F4-4449-8B3E-E4F4932D05B5
X-WR-TIMEZONE:UTC
BEGIN:VTIMEZONE
TZID:UTC
END:VTIMEZONE
BEGIN:VEVENT
UID:014a56ea-8672-43fc-8d18-9a86f80cfa45
DTSTAMP:20260425T041803Z
CATEGORIES:Corsi e incontri
CLASS:PUBLIC
DESCRIPTION;ALTREP="CID:<FFFF__=0ABBE548DFE235B58f9e8a93d@coffeebean.com>":
 Orario lezione: 16.00 - 18.00\nIl nostro percorso didattico esplorerà\, in
  tre giornate\, la relazione esistente tra uomo\, cibo e ambiente da diver
 si punti di vista.\nPossiamo essere protagonisti di un mondo più green e c
 onsapevole?\nChe peso hanno le mie scelte alimentari sull’ecosistema?\nCom
 e sta il nostro pianeta?\nQueste\, e molte altre domande\, troveranno una 
 risposta e vedremo come la salute umana e ambientale siano un binomio insc
 indibile.\n&nbsp\;\nDott.ssa Chiara Bosca\, biologa nutrizionista e foodlo
 ver.\nDopo la laurea ho continuato ad approfondire i miei studi sul cibo e
 \, tramite diverse esperienze\, ho imparato che il successo di ogni profil
 o nutrizionale dipende non solo da uno stile di vita sano\, ma anche dalla
  serenità di chi lo affronta.\nLa dieta (o meglio il regime alimentare) no
 n deve quindi essere una triste prigione ma la libertà di vivere appieno i
  piaceri della vita e della tavola.
DTSTART:20221202T160000Z
DTEND:20221202T160000Z
GEO:00;0
LOCATION:
ORGANIZER:
SEQUENCE:1
SUMMARY:Nutrizione e ambiente
TRANSP:OPAQUE
URL:https://www.unitresanmauro.it/index.php/component/icagenda/60-nutrizion
 e-e-ambiente/2022-12-02-16-00
END:VEVENT
END:VCALENDAR
