BEGIN:VCALENDAR
VERSION:2.0
PRODID:-//Unitre San Mauro//NONSGML kigkonsult.se iCalcreator 2.30.10//
CALSCALE:GREGORIAN
METHOD:PUBLISH
UID:6982bbba-6ab2-4b10-9de9-38398c9f4f20
X-WR-CALNAME:iCagenda
X-WR-CALDESC:Event Management Extension for Joomla!
X-WR-RELCALID:3E26604A-50F4-4449-8B3E-E4F4932D05B5
X-WR-TIMEZONE:UTC
BEGIN:VTIMEZONE
TZID:UTC
END:VTIMEZONE
BEGIN:VEVENT
UID:dfc4be88-cf17-42fe-80dc-26e570de9d49
DTSTAMP:20260425T003730Z
CATEGORIES:Corsi e incontri
CLASS:PUBLIC
DESCRIPTION;ALTREP="CID:<FFFF__=0ABBE548DFE235B58f9e8a93d@coffeebean.com>":
 Orario lezione: 16.00 - 18.00
DTSTART:20230203T160000Z
DTEND:20230203T160000Z
GEO:00;0
LOCATION:
ORGANIZER:
SEQUENCE:1
SUMMARY:Permafrost\, Antartide e cambiamenti climatici
TRANSP:OPAQUE
URL:https://www.unitresanmauro.it/index.php/component/icagenda/61-permafros
 t-antartide-e-cambiamenti-climatici/2023-02-03-16-00
END:VEVENT
END:VCALENDAR
