BEGIN:VCALENDAR
VERSION:2.0
PRODID:-//Unitre San Mauro//NONSGML kigkonsult.se iCalcreator 2.30.10//
CALSCALE:GREGORIAN
METHOD:PUBLISH
UID:112ebec3-203d-4a1f-86ad-467aa5033288
X-WR-CALNAME:iCagenda
X-WR-CALDESC:Event Management Extension for Joomla!
X-WR-RELCALID:3E26604A-50F4-4449-8B3E-E4F4932D05B5
X-WR-TIMEZONE:UTC
BEGIN:VTIMEZONE
TZID:UTC
END:VTIMEZONE
BEGIN:VEVENT
UID:40206159-6058-45b5-9338-da07e2c8008b
DTSTAMP:20260425T022916Z
CATEGORIES:Corsi e incontri
CLASS:PUBLIC
DESCRIPTION;ALTREP="CID:<FFFF__=0ABBE548DFE235B58f9e8a93d@coffeebean.com>":
 Orario lezione: 16.00 - 18.00\nTI AMO…IN TUTTE LE SPECIE DEL MONDO\nTre in
 contri di biologia per un corso leggero\, ma scientificamente rigoroso\, s
 ulla riproduzione e la sessualità in natura. La riproduzione è l'atto vita
 le per eccellenza\, l'obiettivo finale che permette a una specie di perman
 ere nel tempo e diffondersi nello spazio. Non c'è un comportamento miglior
 e di un altro in termini assoluti\, solo uno più adatto degli altri alla s
 ituazione contingente.\nPer riuscire a consegnare ai posteri la propria id
 entità genetica\, la natura ha messo in campo tutto il suo eclettismo. Inn
 umerevoli strategie\, sotterfugi\, compromessi vengono adottati per conqui
 stare un partner\, sconfiggere i rivali\, allestire un'alcova\, garantire 
 un nido alla prole. Non esistono limiti.\nDa milioni di anni gli animali e
 sibiscono un repertorio sessuale vastissimo\, ben oltre le fantasie più pr
 oibite. Partendo da un dato oggettivo anche se ignorato\, ovvero che tutti
  i litigi\, le incomprensioni e le lotte imputabili alle differenze tra i 
 sessi esistono ed esisteranno sempre solo perché gli spermatozoi sono molt
 o più piccoli delle uova\, è possibile esplorare le mille soluzioni adatta
 tive messe in campo dalla natura per mantenere un equilibrio tra i sessi e
  garantire la sopravvivenza delle specie.\nSi scopre così che la vera tras
 gressione è la monogamia\, e che anche la famiglia allargata\, l'adozione 
 e la menopausa hanno un importante ruolo in natura\, per la quale la vera 
 ricchezza è il benessere dei figli e dei consanguinei. E noi? Proviamo a r
 ileggere la nostra natura animale\, alla luce della quale molti comportame
 nti trovano spiegazioni inaspettate.\nClaudia Bordese\, biologa\, insegnan
 te e divulgatrice\, racconta la scienza in libri (Innovare\, crescere\, co
 mpetere - le sfide del dottorato di ricerca\, Il Sole24ORE\; Vivere a spes
 e degli altri - elogio del parassitismo\, Blu Ed.\, finalista all’8a edizi
 one del premio letterario Merck Serono\; Sesso selvaggio - quando ad amare
  è la natura\, Instar Libri)\, articoli\, conferenze e seminari.\nHa chiac
 chierato di sessualità con Luciana Littizzetto al Circolo dei Lettori di T
 orino\, e con Lella Costa al Museo di Scienze di Trento\, e di intelligenz
 a degli animali con Danilo Mainardi al Salone del Libro di Torino. E’ inte
 rvenuta in più occasioni alla trasmissione Geo&amp\;Geo su RaiTre. Dal set
 tembre 2016 insegna Scienze ai giovani allievi della Scuola Media San Luig
 i di Chieri.
DTSTART:20230113T160000Z
DTEND:20230113T160000Z
GEO:00;0
LOCATION:
ORGANIZER:
SEQUENCE:1
SUMMARY:Ti amo... in tutte le specie del mondo
TRANSP:OPAQUE
URL:https://www.unitresanmauro.it/index.php/component/icagenda/63-ti-amo-in
 -tutte-le-specie-del-mondo/2023-01-13-16-00
END:VEVENT
END:VCALENDAR
