BEGIN:VCALENDAR
VERSION:2.0
PRODID:-//Unitre San Mauro//NONSGML kigkonsult.se iCalcreator 2.30.10//
CALSCALE:GREGORIAN
METHOD:PUBLISH
UID:4c891a6b-527a-4f04-85fe-514910af9c2b
X-WR-CALNAME:iCagenda
X-WR-CALDESC:Event Management Extension for Joomla!
X-WR-RELCALID:3E26604A-50F4-4449-8B3E-E4F4932D05B5
X-WR-TIMEZONE:UTC
BEGIN:VTIMEZONE
TZID:UTC
END:VTIMEZONE
BEGIN:VEVENT
UID:16319233-05d1-4252-b0b3-544f4247d563
DTSTAMP:20260425T040948Z
CATEGORIES:Laboratori
CLASS:PUBLIC
DESCRIPTION;ALTREP="CID:<FFFF__=0ABBE548DFE235B58f9e8a93d@coffeebean.com>":
 Orario lezione: 09.30 - 11.30\nOgni 15 giorni ci ritroviamo il Lunedì matt
 ina\, al corso di BIGIOTTERIA\, CHE PASSIONE! \, per&nbsp\;imparare&nbsp\;
 tecniche nuove\,&nbsp\;ampliare&nbsp\;la nostra manualità\,&nbsp\;creare&n
 bsp\;veri e propri gioielli e non solo ….\nRiciclare&nbsp\;vecchie collane
  o&nbsp\;recuperare&nbsp\;perle\, perline\, fili ecc… da «baule della nonn
 a».\nMentre lavoriamo possiamo scambiarci «chiacchiere in allegria»\; e po
 i\, perché no\, quando ci dicono «che carina la tua collana» rispondere or
 gogliosamente «&nbsp\;l’ho fatta io&nbsp\;!»
DTSTART:20251110T093000Z
DTEND:20251110T093000Z
GEO:00;0
LOCATION:
ORGANIZER:
SEQUENCE:1
SUMMARY:Bigiotteria\, che passione!
TRANSP:OPAQUE
URL:https://www.unitresanmauro.it/index.php/component/icagenda/64-bigiotter
 ia-che-passione-2/2025-11-10-09-30
END:VEVENT
END:VCALENDAR
