BEGIN:VCALENDAR
VERSION:2.0
PRODID:-//Unitre San Mauro//NONSGML kigkonsult.se iCalcreator 2.30.10//
CALSCALE:GREGORIAN
METHOD:PUBLISH
UID:8660f2d1-4fd1-4976-abc1-00b0e207c5f8
X-WR-CALNAME:iCagenda
X-WR-CALDESC:Event Management Extension for Joomla!
X-WR-RELCALID:3E26604A-50F4-4449-8B3E-E4F4932D05B5
X-WR-TIMEZONE:UTC
BEGIN:VTIMEZONE
TZID:UTC
END:VTIMEZONE
BEGIN:VEVENT
UID:c960b300-0be3-436b-805f-6c2cbc237c57
DTSTAMP:20260425T043057Z
CATEGORIES:Laboratori
CLASS:PUBLIC
DESCRIPTION;ALTREP="CID:<FFFF__=0ABBE548DFE235B58f9e8a93d@coffeebean.com>":
 Orario lezione: 09.30 - 11.30
DTSTART:20251117T093000Z
DTEND:20251117T093000Z
GEO:00;0
LOCATION:
ORGANIZER:
SEQUENCE:1
SUMMARY:Lavoro a maglia e uncinetto
TRANSP:OPAQUE
URL:https://www.unitresanmauro.it/index.php/component/icagenda/65-lavoro-a-
 maglia-e-uncinetto/2025-11-17-09-30
END:VEVENT
END:VCALENDAR
