BEGIN:VCALENDAR
VERSION:2.0
PRODID:-//Unitre San Mauro//NONSGML kigkonsult.se iCalcreator 2.30.10//
CALSCALE:GREGORIAN
METHOD:PUBLISH
UID:bc5b061f-cff2-4258-8da1-fc7e7d0899e3
X-WR-CALNAME:iCagenda
X-WR-CALDESC:Event Management Extension for Joomla!
X-WR-RELCALID:3E26604A-50F4-4449-8B3E-E4F4932D05B5
X-WR-TIMEZONE:UTC
BEGIN:VTIMEZONE
TZID:UTC
END:VTIMEZONE
BEGIN:VEVENT
UID:c999a014-0e78-4866-8c1f-920cb7240214
DTSTAMP:20260424T175436Z
CATEGORIES:Laboratori
CLASS:PUBLIC
DESCRIPTION;ALTREP="CID:<FFFF__=0ABBE548DFE235B58f9e8a93d@coffeebean.com>":
 Orario lezione: 09.30 - 11.30
DTSTART:20260309T093000Z
DTEND:20260309T093000Z
GEO:00;0
LOCATION:
ORGANIZER:
SEQUENCE:1
SUMMARY:Lavoro a maglia e uncinetto
TRANSP:OPAQUE
URL:https://www.unitresanmauro.it/index.php/component/icagenda/65-lavoro-a-
 maglia-e-uncinetto/2026-03-09-09-30
END:VEVENT
END:VCALENDAR
