BEGIN:VCALENDAR
VERSION:2.0
PRODID:-//Unitre San Mauro//NONSGML kigkonsult.se iCalcreator 2.30.10//
CALSCALE:GREGORIAN
METHOD:PUBLISH
UID:f666f5c4-c3bc-46a9-99cc-bda097ab2a34
X-WR-CALNAME:iCagenda
X-WR-CALDESC:Event Management Extension for Joomla!
X-WR-RELCALID:3E26604A-50F4-4449-8B3E-E4F4932D05B5
X-WR-TIMEZONE:UTC
BEGIN:VTIMEZONE
TZID:UTC
END:VTIMEZONE
BEGIN:VEVENT
UID:903a54bc-b1fa-43ac-9551-e80f63e4c7d6
DTSTAMP:20260425T022901Z
CATEGORIES:Laboratori
CLASS:PUBLIC
DESCRIPTION;ALTREP="CID:<FFFF__=0ABBE548DFE235B58f9e8a93d@coffeebean.com>":
 Orario lezione: 09.30 - 11.30
DTSTART:20230117T093000Z
DTEND:20230117T093000Z
GEO:00;0
LOCATION:
ORGANIZER:
SEQUENCE:1
SUMMARY:Creiamo riciclando
TRANSP:OPAQUE
URL:https://www.unitresanmauro.it/index.php/component/icagenda/66-creiamo-r
 iciclando/2023-01-17-09-30
END:VEVENT
END:VCALENDAR
