BEGIN:VCALENDAR
VERSION:2.0
PRODID:-//Unitre San Mauro//NONSGML kigkonsult.se iCalcreator 2.30.10//
CALSCALE:GREGORIAN
METHOD:PUBLISH
UID:4cc40977-7d05-4dcd-8eb8-34e9a32573b7
X-WR-CALNAME:iCagenda
X-WR-CALDESC:Event Management Extension for Joomla!
X-WR-RELCALID:3E26604A-50F4-4449-8B3E-E4F4932D05B5
X-WR-TIMEZONE:UTC
BEGIN:VTIMEZONE
TZID:UTC
END:VTIMEZONE
BEGIN:VEVENT
UID:4d27a876-3ca0-4d1a-8871-3ffe081966b2
DTSTAMP:20260425T040534Z
CATEGORIES:Laboratori
CLASS:PUBLIC
DESCRIPTION;ALTREP="CID:<FFFF__=0ABBE548DFE235B58f9e8a93d@coffeebean.com>":
 Orario lezione: 09.30 - 11.30\nIl Corso di « Decoupage Avanzato» propone l
 a tecnica base con nuove soluzioni per rendere qualsiasi oggetto unico ed 
 originale.\nOgni allieva può personalizzare il proprio lavoro perché ogni 
 nuova idea può essere sviluppata e realizzata a proprio gusto.\nNaturalmen
 te la « regina» del&nbsp\; decoupage è sempre la « carta» che con colla \,
  pennelli\, colori e qualche materiale «inaspettato» vi farà divertire con
  risultati sorprendenti.
DTSTART:20251014T093000Z
DTEND:20251014T113000Z
GEO:00;0
LOCATION:
ORGANIZER:
SEQUENCE:1
SUMMARY:Decoupage - corso avanzato
TRANSP:OPAQUE
URL:https://www.unitresanmauro.it/index.php/component/icagenda/67-decoupage
 -corso-avanzato/2025-10-14-09-30
END:VEVENT
END:VCALENDAR
