BEGIN:VCALENDAR
VERSION:2.0
PRODID:-//Unitre San Mauro//NONSGML kigkonsult.se iCalcreator 2.30.10//
CALSCALE:GREGORIAN
METHOD:PUBLISH
UID:d9430d09-7db8-40db-9699-ca0a6b809957
X-WR-CALNAME:iCagenda
X-WR-CALDESC:Event Management Extension for Joomla!
X-WR-RELCALID:3E26604A-50F4-4449-8B3E-E4F4932D05B5
X-WR-TIMEZONE:UTC
BEGIN:VTIMEZONE
TZID:UTC
END:VTIMEZONE
BEGIN:VEVENT
UID:92c05eff-59ad-407e-8ccf-fbf8a27e7d26
DTSTAMP:20260425T041805Z
CATEGORIES:Laboratori
CLASS:PUBLIC
DESCRIPTION;ALTREP="CID:<FFFF__=0ABBE548DFE235B58f9e8a93d@coffeebean.com>":
 Orario lezione: 09.30 - 11.30
DTSTART:20251031T160000Z
DTEND:20251031T160000Z
GEO:00;0
LOCATION:c/o scuola Dalla Chiesa\, V. Speranza 40\,  San Mauro
ORGANIZER:
SEQUENCE:1
SUMMARY:Informatica - corso base pc (corso a numero chiuso) C/o Scuola Dall
 a Chiesa\, V Speranza 40
TRANSP:OPAQUE
URL:https://www.unitresanmauro.it/index.php/component/icagenda/72-informati
 ca-corso-base/2025-10-31-16-00
END:VEVENT
END:VCALENDAR
