BEGIN:VCALENDAR
VERSION:2.0
PRODID:-//Unitre San Mauro//NONSGML kigkonsult.se iCalcreator 2.30.10//
CALSCALE:GREGORIAN
METHOD:PUBLISH
UID:7b5e8d7b-e033-45b9-b29f-9d9ee3203426
X-WR-CALNAME:iCagenda
X-WR-CALDESC:Event Management Extension for Joomla!
X-WR-RELCALID:3E26604A-50F4-4449-8B3E-E4F4932D05B5
X-WR-TIMEZONE:UTC
BEGIN:VTIMEZONE
TZID:UTC
END:VTIMEZONE
BEGIN:VEVENT
UID:d10a2d6a-ec26-4706-be75-17b8117fb815
DTSTAMP:20260425T003444Z
CATEGORIES:Laboratori
CLASS:PUBLIC
DESCRIPTION;ALTREP="CID:<FFFF__=0ABBE548DFE235B58f9e8a93d@coffeebean.com>":
 Orario lezione: 09.30 - 11.30
DTSTART:20260109T160000Z
DTEND:20260109T160000Z
GEO:00;0
LOCATION:c/o scuola Dalla Chiesa\, V. Speranza 40\,  San Mauro
ORGANIZER:
SEQUENCE:1
SUMMARY:Informatica - Internet e social network (corso a numero chiuso) c/o
  Scuola Dalla Chiesa v. Speranza 40
TRANSP:OPAQUE
URL:https://www.unitresanmauro.it/index.php/component/icagenda/73-informati
 ca-internet-e-social-network/2026-01-09-16-00
END:VEVENT
END:VCALENDAR
