BEGIN:VCALENDAR
VERSION:2.0
PRODID:-//Unitre San Mauro//NONSGML kigkonsult.se iCalcreator 2.30.10//
CALSCALE:GREGORIAN
METHOD:PUBLISH
UID:6ae1d325-f3fb-45a7-8f7a-58ca064b9b6d
X-WR-CALNAME:iCagenda
X-WR-CALDESC:Event Management Extension for Joomla!
X-WR-RELCALID:3E26604A-50F4-4449-8B3E-E4F4932D05B5
X-WR-TIMEZONE:UTC
BEGIN:VTIMEZONE
TZID:UTC
END:VTIMEZONE
BEGIN:VEVENT
UID:7fe79379-b888-4519-a4a5-adca072df42d
DTSTAMP:20260424T194449Z
CATEGORIES:Laboratori
CLASS:PUBLIC
DESCRIPTION;ALTREP="CID:<FFFF__=0ABBE548DFE235B58f9e8a93d@coffeebean.com>":
 Orario lezione: 09.30 - 11.30\n&nbsp\;&nbsp\;\n\nIl corso vuole essere l'o
 ccasione per analizzare l'attuale mondo della fotografia digitale confront
 andolo con il tradizionale metodo a pellicola per scoprire cosa abbiamo pe
 rso e cosa abbiamo guadagnato nel tempo.\nNei nostri appuntamenti bisettim
 anali affronteremo obbligatoriamente un po' di indispensabile teoria ma so
 prattutto faremo tanta pratica.\nNei primi incontri ci confronteremo con l
 'aspetto compositivo e creativo della fotografia in modo da migliorare imm
 ediatamente il risultato finale\, successivamente approfondiremo la tecnic
 a fotografica. Non è necessario nessun prerequisito.\nE' caldamente consig
 liato il possesso di una fotocamera digitale di qualsiasi categoria e prez
 zo.\nSarà possibile usare lo smartphone al posto della macchina fotografic
 a\, ma diventerà decisamente più complicato potere mettere in pratica quan
 to vi verrà suggerito.\n\n
DTSTART:20240409T160000Z
DTEND:20240409T160000Z
GEO:00;0
LOCATION:
ORGANIZER:
SEQUENCE:1
SUMMARY:Nuove tecniche fotografiche
TRANSP:OPAQUE
URL:https://www.unitresanmauro.it/index.php/component/icagenda/77-fotografi
 amo-insieme/2024-04-09-16-00
END:VEVENT
END:VCALENDAR
