BEGIN:VCALENDAR
VERSION:2.0
PRODID:-//Unitre San Mauro//NONSGML kigkonsult.se iCalcreator 2.30.10//
CALSCALE:GREGORIAN
METHOD:PUBLISH
UID:358cc692-9b7e-4ada-8ad3-cea57fbf260e
X-WR-CALNAME:iCagenda
X-WR-CALDESC:Event Management Extension for Joomla!
X-WR-RELCALID:3E26604A-50F4-4449-8B3E-E4F4932D05B5
X-WR-TIMEZONE:UTC
BEGIN:VTIMEZONE
TZID:UTC
END:VTIMEZONE
BEGIN:VEVENT
UID:247b4c14-b271-49a0-bb0b-23f643e66bbc
DTSTAMP:20260425T041224Z
CATEGORIES:Laboratori
CLASS:PUBLIC
DESCRIPTION;ALTREP="CID:<FFFF__=0ABBE548DFE235B58f9e8a93d@coffeebean.com>":
 Orario lezione: 09.30 - 11.30
DTSTART:20251030T100000Z
DTEND:20251030T100000Z
GEO:00;0
LOCATION:
ORGANIZER:
SEQUENCE:1
SUMMARY:Musicoterapia - corso n° 1 (corso a numero chiuso)
TRANSP:OPAQUE
URL:https://www.unitresanmauro.it/index.php/component/icagenda/78-musicoter
 apia-corso-n-1/2025-10-30-10-00
END:VEVENT
END:VCALENDAR
