BEGIN:VCALENDAR
VERSION:2.0
PRODID:-//Unitre San Mauro//NONSGML kigkonsult.se iCalcreator 2.30.10//
CALSCALE:GREGORIAN
METHOD:PUBLISH
UID:064a80ca-22f9-49ae-8fe4-35a15af6c652
X-WR-CALNAME:iCagenda
X-WR-CALDESC:Event Management Extension for Joomla!
X-WR-RELCALID:3E26604A-50F4-4449-8B3E-E4F4932D05B5
X-WR-TIMEZONE:UTC
BEGIN:VTIMEZONE
TZID:UTC
END:VTIMEZONE
BEGIN:VEVENT
UID:5dce17de-a98e-42e4-9336-16a8f213deaf
DTSTAMP:20260425T003538Z
CATEGORIES:Laboratori
CLASS:PUBLIC
DESCRIPTION;ALTREP="CID:<FFFF__=0ABBE548DFE235B58f9e8a93d@coffeebean.com>":
 Orario lezione: 09.30 - 11.30
DTSTART:20260116T093000Z
DTEND:20260116T093000Z
GEO:00;0
LOCATION:
ORGANIZER:
SEQUENCE:1
SUMMARY:Bambole e pupazzi
TRANSP:OPAQUE
URL:https://www.unitresanmauro.it/index.php/component/icagenda/81-bambole-e
 -pupazzi/2026-01-16-09-30
END:VEVENT
END:VCALENDAR
