BEGIN:VCALENDAR
VERSION:2.0
PRODID:-//Unitre San Mauro//NONSGML kigkonsult.se iCalcreator 2.30.10//
CALSCALE:GREGORIAN
METHOD:PUBLISH
UID:9a8726f7-1c15-438d-bfb3-8aa5d0fb8e6b
X-WR-CALNAME:iCagenda
X-WR-CALDESC:Event Management Extension for Joomla!
X-WR-RELCALID:3E26604A-50F4-4449-8B3E-E4F4932D05B5
X-WR-TIMEZONE:UTC
BEGIN:VTIMEZONE
TZID:UTC
END:VTIMEZONE
BEGIN:VEVENT
UID:2be5b5f5-2b0d-49e0-bfed-78c5480dc4da
DTSTAMP:20260424T224821Z
CATEGORIES:Laboratori
CLASS:PUBLIC
DESCRIPTION;ALTREP="CID:<FFFF__=0ABBE548DFE235B58f9e8a93d@coffeebean.com>":
 Orario lezione: 09.30 - 11.30
DTSTART:20240216T093000Z
DTEND:20240216T093000Z
GEO:00;0
LOCATION:
ORGANIZER:
SEQUENCE:1
SUMMARY:Taglio e cucito - Abbigliamento
TRANSP:OPAQUE
URL:https://www.unitresanmauro.it/index.php/component/icagenda/84-taglio-e-
 cucito-abbigliamento/2024-02-16-09-30
END:VEVENT
END:VCALENDAR
