BEGIN:VCALENDAR
VERSION:2.0
PRODID:-//Unitre San Mauro//NONSGML kigkonsult.se iCalcreator 2.30.10//
CALSCALE:GREGORIAN
METHOD:PUBLISH
UID:e0d5da10-4ffb-4391-a7bd-7dfa7d0ebab8
X-WR-CALNAME:iCagenda
X-WR-CALDESC:Event Management Extension for Joomla!
X-WR-RELCALID:3E26604A-50F4-4449-8B3E-E4F4932D05B5
X-WR-TIMEZONE:UTC
BEGIN:VTIMEZONE
TZID:UTC
END:VTIMEZONE
BEGIN:VEVENT
UID:fa58dfc9-86a0-4de6-ac11-224b91c5522c
DTSTAMP:20260424T210453Z
CATEGORIES:Laboratori
CLASS:PUBLIC
DESCRIPTION;ALTREP="CID:<FFFF__=0ABBE548DFE235B58f9e8a93d@coffeebean.com>":
 Orario lezione: 09.30 - 11.30
DTSTART:20240301T093000Z
DTEND:20240301T093000Z
GEO:00;0
LOCATION:
ORGANIZER:
SEQUENCE:1
SUMMARY:Taglio e cucito - Abbigliamento
TRANSP:OPAQUE
URL:https://www.unitresanmauro.it/index.php/component/icagenda/84-taglio-e-
 cucito-abbigliamento/2024-03-01-09-30
END:VEVENT
END:VCALENDAR
