BEGIN:VCALENDAR
VERSION:2.0
PRODID:-//Unitre San Mauro//NONSGML kigkonsult.se iCalcreator 2.30.10//
CALSCALE:GREGORIAN
METHOD:PUBLISH
UID:d52b0ba4-68cc-4414-9603-b8f75fc81ab0
X-WR-CALNAME:iCagenda
X-WR-CALDESC:Event Management Extension for Joomla!
X-WR-RELCALID:3E26604A-50F4-4449-8B3E-E4F4932D05B5
X-WR-TIMEZONE:UTC
BEGIN:VTIMEZONE
TZID:UTC
END:VTIMEZONE
BEGIN:VEVENT
UID:b37b38fb-c615-4fbf-b5f1-67423b2a4e14
DTSTAMP:20260425T040826Z
CATEGORIES:Laboratori
CLASS:PUBLIC
DESCRIPTION;ALTREP="CID:<FFFF__=0ABBE548DFE235B58f9e8a93d@coffeebean.com>":
 Orario lezione: 16.00 – 18.00
DTSTART:20251027T160000Z
DTEND:20251027T160000Z
GEO:00;0
LOCATION:
ORGANIZER:
SEQUENCE:1
SUMMARY:Laboratorio di calligrafia
TRANSP:OPAQUE
URL:https://www.unitresanmauro.it/index.php/component/icagenda/86-laborator
 io-di-calligrafia/2025-10-27-16-00
END:VEVENT
END:VCALENDAR
