BEGIN:VCALENDAR
VERSION:2.0
PRODID:-//Unitre San Mauro//NONSGML kigkonsult.se iCalcreator 2.30.10//
CALSCALE:GREGORIAN
METHOD:PUBLISH
UID:588fc103-81d0-46e7-8279-0d2c4c7fb7bb
X-WR-CALNAME:iCagenda
X-WR-CALDESC:Event Management Extension for Joomla!
X-WR-RELCALID:3E26604A-50F4-4449-8B3E-E4F4932D05B5
X-WR-TIMEZONE:UTC
BEGIN:VTIMEZONE
TZID:UTC
END:VTIMEZONE
BEGIN:VEVENT
UID:61d9808e-5f83-4c6d-873b-5e246c78502e
DTSTAMP:20260424T174818Z
CATEGORIES:Laboratori
CLASS:PUBLIC
DESCRIPTION;ALTREP="CID:<FFFF__=0ABBE548DFE235B58f9e8a93d@coffeebean.com>":
 Orario lezione: 16.00 – 18.00
DTSTART:20260330T160000Z
DTEND:20260330T160000Z
GEO:00;0
LOCATION:
ORGANIZER:
SEQUENCE:1
SUMMARY:Laboratorio di calligrafia
TRANSP:OPAQUE
URL:https://www.unitresanmauro.it/index.php/component/icagenda/86-laborator
 io-di-calligrafia/2026-03-30-16-00
END:VEVENT
END:VCALENDAR
