BEGIN:VCALENDAR
VERSION:2.0
PRODID:-//Unitre San Mauro//NONSGML kigkonsult.se iCalcreator 2.30.10//
CALSCALE:GREGORIAN
METHOD:PUBLISH
UID:76a4c719-8e9e-4815-8f73-f66955957831
X-WR-CALNAME:iCagenda
X-WR-CALDESC:Event Management Extension for Joomla!
X-WR-RELCALID:3E26604A-50F4-4449-8B3E-E4F4932D05B5
X-WR-TIMEZONE:UTC
BEGIN:VTIMEZONE
TZID:UTC
END:VTIMEZONE
BEGIN:VEVENT
UID:5e01e6cb-bd4c-4a87-be84-be322d46e1a4
DTSTAMP:20260425T041941Z
CATEGORIES:Laboratori
CLASS:PUBLIC
DESCRIPTION;ALTREP="CID:<FFFF__=0ABBE548DFE235B58f9e8a93d@coffeebean.com>":
 Orario lezione: 16.00 – 18.00\nMetodo che ti porterà ad imparare gli accor
 di necessari all'accompagnamento di qualsiasi canzone e leggere le melodie
  senza avere conoscenza di solfeggio o altro con il metodo Suzuki !\nIl co
 rso è dedicato a tutti gli appasionati di musica \, NESSUNO ESCLUSO!
DTSTART:20251103T093000Z
DTEND:20251103T093000Z
GEO:00;0
LOCATION:
ORGANIZER:
SEQUENCE:1
SUMMARY:Corso di chitarra avanzato
TRANSP:OPAQUE
URL:https://www.unitresanmauro.it/index.php/component/icagenda/88-corso-di-
 chitarra/2025-11-03-09-30
END:VEVENT
END:VCALENDAR
