BEGIN:VCALENDAR
VERSION:2.0
PRODID:-//Unitre San Mauro//NONSGML kigkonsult.se iCalcreator 2.30.10//
CALSCALE:GREGORIAN
METHOD:PUBLISH
UID:164f1089-5bbd-46ac-ad9c-869e36a706bb
X-WR-CALNAME:iCagenda
X-WR-CALDESC:Event Management Extension for Joomla!
X-WR-RELCALID:3E26604A-50F4-4449-8B3E-E4F4932D05B5
X-WR-TIMEZONE:UTC
BEGIN:VTIMEZONE
TZID:UTC
END:VTIMEZONE
BEGIN:VEVENT
UID:fbedd2b8-0376-414d-9661-f06672adb397
DTSTAMP:20260424T225031Z
CATEGORIES:Laboratori
CLASS:PUBLIC
DESCRIPTION;ALTREP="CID:<FFFF__=0ABBE548DFE235B58f9e8a93d@coffeebean.com>":
 Orario lezione: 16.00 – 18.00\nIl corso permette di scoprire (per chi non 
 ha alcuna conoscenza musicale)le basi per la lettura della musica sul pent
 agramma. il tutto orientato verso il mondo della chitarra.\nGli incontri s
 ono dedicati a tutti gli appasionati di musica \, NESSUNO ESCLUSO!
DTSTART:20230328T160000Z
DTEND:20230328T160000Z
GEO:00;0
LOCATION:
ORGANIZER:
SEQUENCE:1
SUMMARY:Do - Re - Mi... leggere e fare musica
TRANSP:OPAQUE
URL:https://www.unitresanmauro.it/index.php/component/icagenda/89-do-re-mi-
 leggere-e-fare-musica/2023-03-28-16-00
END:VEVENT
END:VCALENDAR
