BEGIN:VCALENDAR
VERSION:2.0
PRODID:-//Unitre San Mauro//NONSGML kigkonsult.se iCalcreator 2.30.10//
CALSCALE:GREGORIAN
METHOD:PUBLISH
UID:bf7bcd71-2a3b-4c44-9cc9-a541cd914b6e
X-WR-CALNAME:iCagenda
X-WR-CALDESC:Event Management Extension for Joomla!
X-WR-RELCALID:3E26604A-50F4-4449-8B3E-E4F4932D05B5
X-WR-TIMEZONE:UTC
BEGIN:VTIMEZONE
TZID:UTC
END:VTIMEZONE
BEGIN:VEVENT
UID:3391b7cf-a095-4cc2-a6d2-938a6b6bfd45
DTSTAMP:20260425T042018Z
CATEGORIES:Laboratori
CLASS:PUBLIC
DESCRIPTION;ALTREP="CID:<FFFF__=0ABBE548DFE235B58f9e8a93d@coffeebean.com>":
 Orario lezione: 16.00 – 18.00
DTSTART:20251029T160000Z
DTEND:20251029T160000Z
GEO:00;0
LOCATION:
ORGANIZER:
SEQUENCE:1
SUMMARY:Modelliamo la creta
TRANSP:OPAQUE
URL:https://www.unitresanmauro.it/index.php/component/icagenda/91-modelliam
 o-la-creta/2025-10-29-16-00
END:VEVENT
END:VCALENDAR
