BEGIN:VCALENDAR
VERSION:2.0
PRODID:-//Unitre San Mauro//NONSGML kigkonsult.se iCalcreator 2.30.10//
CALSCALE:GREGORIAN
METHOD:PUBLISH
UID:06c3e5dc-a8b4-4e45-af74-7cc08a002a81
X-WR-CALNAME:iCagenda
X-WR-CALDESC:Event Management Extension for Joomla!
X-WR-RELCALID:3E26604A-50F4-4449-8B3E-E4F4932D05B5
X-WR-TIMEZONE:UTC
BEGIN:VTIMEZONE
TZID:UTC
END:VTIMEZONE
BEGIN:VEVENT
UID:89dffef2-f59a-4c65-9b88-b0fba716a5c5
DTSTAMP:20260425T003607Z
CATEGORIES:Laboratori
CLASS:PUBLIC
DESCRIPTION;ALTREP="CID:<FFFF__=0ABBE548DFE235B58f9e8a93d@coffeebean.com>":
 Orario lezione: 16.00 – 18.00
DTSTART:20260114T160000Z
DTEND:20260114T160000Z
GEO:00;0
LOCATION:
ORGANIZER:
SEQUENCE:1
SUMMARY:Modelliamo la creta
TRANSP:OPAQUE
URL:https://www.unitresanmauro.it/index.php/component/icagenda/91-modelliam
 o-la-creta/2026-01-14-16-00
END:VEVENT
END:VCALENDAR
