BEGIN:VCALENDAR
VERSION:2.0
PRODID:-//Unitre San Mauro//NONSGML kigkonsult.se iCalcreator 2.30.10//
CALSCALE:GREGORIAN
METHOD:PUBLISH
UID:0a635c8e-a33f-4904-a888-4c14233b2f7c
X-WR-CALNAME:iCagenda
X-WR-CALDESC:Event Management Extension for Joomla!
X-WR-RELCALID:3E26604A-50F4-4449-8B3E-E4F4932D05B5
X-WR-TIMEZONE:UTC
BEGIN:VTIMEZONE
TZID:UTC
END:VTIMEZONE
BEGIN:VEVENT
UID:14fb22f3-88f3-40e3-8ecc-2a057294358b
DTSTAMP:20260425T040738Z
CATEGORIES:Laboratori
CLASS:PUBLIC
DESCRIPTION;ALTREP="CID:<FFFF__=0ABBE548DFE235B58f9e8a93d@coffeebean.com>":
 Orario lezione: 16.00 – 18.00\nIl laboratorio di pittura ad olio è nato ne
 l&nbsp\;2004\; sono&nbsp\;diciotto&nbsp\;anni di soddisfazioni che solo l’
 amicizia può dare.\nOgnuno può&nbsp\;esprimere&nbsp\;la&nbsp\;propria crea
 tività\, liberamente come meglio&nbsp\;crede.\nQualunque tecnica&nbsp\;è b
 en accetta\, basta&nbsp\;mettersi in discussione.\nGrazie a questa opportu
 nità\,&nbsp\;diventiamo tutti «artisti»&nbsp\;.
DTSTART:20251022T160000Z
DTEND:20251022T160000Z
GEO:00;0
LOCATION:
ORGANIZER:
SEQUENCE:1
SUMMARY:Pittura ad olio
TRANSP:OPAQUE
URL:https://www.unitresanmauro.it/index.php/component/icagenda/92-pittura-a
 d-olio/2025-10-22-16-00
END:VEVENT
END:VCALENDAR
