BEGIN:VCALENDAR
VERSION:2.0
PRODID:-//Unitre San Mauro//NONSGML kigkonsult.se iCalcreator 2.30.10//
CALSCALE:GREGORIAN
METHOD:PUBLISH
UID:6b5feacc-1f81-4a31-94d7-657f49e32163
X-WR-CALNAME:iCagenda
X-WR-CALDESC:Event Management Extension for Joomla!
X-WR-RELCALID:3E26604A-50F4-4449-8B3E-E4F4932D05B5
X-WR-TIMEZONE:UTC
BEGIN:VTIMEZONE
TZID:UTC
END:VTIMEZONE
BEGIN:VEVENT
UID:400c944c-3e98-4ef2-9f54-e7c6d527a77a
DTSTAMP:20260425T040948Z
CATEGORIES:Laboratori
CLASS:PUBLIC
DESCRIPTION;ALTREP="CID:<FFFF__=0ABBE548DFE235B58f9e8a93d@coffeebean.com>":
 Orario lezione: 16.00 – 18.00
DTSTART:20251128T160000Z
DTEND:20251128T160000Z
GEO:00;0
LOCATION:
ORGANIZER:
SEQUENCE:1
SUMMARY:Insieme... con il canto
TRANSP:OPAQUE
URL:https://www.unitresanmauro.it/index.php/component/icagenda/94-insieme-c
 on-il-canto/2025-11-28-16-00
END:VEVENT
END:VCALENDAR
