BEGIN:VCALENDAR
VERSION:2.0
PRODID:-//Unitre San Mauro//NONSGML kigkonsult.se iCalcreator 2.30.10//
CALSCALE:GREGORIAN
METHOD:PUBLISH
UID:c4a21629-5ce2-4c06-bd8a-148fcdee7731
X-WR-CALNAME:iCagenda
X-WR-CALDESC:Event Management Extension for Joomla!
X-WR-RELCALID:3E26604A-50F4-4449-8B3E-E4F4932D05B5
X-WR-TIMEZONE:UTC
BEGIN:VTIMEZONE
TZID:UTC
END:VTIMEZONE
BEGIN:VEVENT
UID:d6e49b9f-8dbf-4ab6-bd3d-1cd49f54fb78
DTSTAMP:20260425T042016Z
CATEGORIES:Laboratori
CLASS:PUBLIC
DESCRIPTION;ALTREP="CID:<FFFF__=0ABBE548DFE235B58f9e8a93d@coffeebean.com>":
 Orario lezione: 16.00 – 18.00
DTSTART:20251107T160000Z
DTEND:20251107T160000Z
GEO:00;0
LOCATION:
ORGANIZER:
SEQUENCE:1
SUMMARY:Giochiamo a burraco
TRANSP:OPAQUE
URL:https://www.unitresanmauro.it/index.php/component/icagenda/95-giochiamo
 -a-burraco/2025-11-07-16-00
END:VEVENT
END:VCALENDAR
