BEGIN:VCALENDAR
VERSION:2.0
PRODID:-//Unitre San Mauro//NONSGML kigkonsult.se iCalcreator 2.30.10//
CALSCALE:GREGORIAN
METHOD:PUBLISH
UID:874ed2ef-bcf7-4cec-9f10-43c96cef5f7c
X-WR-CALNAME:iCagenda
X-WR-CALDESC:Event Management Extension for Joomla!
X-WR-RELCALID:3E26604A-50F4-4449-8B3E-E4F4932D05B5
X-WR-TIMEZONE:UTC
BEGIN:VTIMEZONE
TZID:UTC
END:VTIMEZONE
BEGIN:VEVENT
UID:f07cb597-8a7f-4841-b137-3a854909b45f
DTSTAMP:20260425T043055Z
CATEGORIES:Attività e movimento
CLASS:PUBLIC
DESCRIPTION;ALTREP="CID:<FFFF__=0ABBE548DFE235B58f9e8a93d@coffeebean.com>":
 Docente Emanuele Sottile\n&nbsp\;
DTSTART:20251128T153000Z
DTEND:20251128T153000Z
GEO:00;0
LOCATION:
ORGANIZER:
SEQUENCE:1
SUMMARY:Yoga con la sedia e mudra  ( corso a numero chiuso) - c/o Piscina G
 ramsci\, via del porto 13\, San Mauro - Palestra Grande
TRANSP:OPAQUE
URL:https://www.unitresanmauro.it/index.php/component/icagenda/97-yoga-con-
 la-sedia-numero-chiuso/2025-11-28-15-30
END:VEVENT
END:VCALENDAR
