BEGIN:VCALENDAR
VERSION:2.0
PRODID:-//Unitre San Mauro//NONSGML kigkonsult.se iCalcreator 2.30.10//
CALSCALE:GREGORIAN
METHOD:PUBLISH
UID:e476881b-6d16-4cb5-bccf-589bde1b57c2
X-WR-CALNAME:iCagenda
X-WR-CALDESC:Event Management Extension for Joomla!
X-WR-RELCALID:3E26604A-50F4-4449-8B3E-E4F4932D05B5
X-WR-TIMEZONE:UTC
BEGIN:VTIMEZONE
TZID:UTC
END:VTIMEZONE
BEGIN:VEVENT
UID:1f1a97e3-bc8f-4037-94b4-f5d09b00cf79
DTSTAMP:20260424T224803Z
CATEGORIES:Laboratori
CLASS:PUBLIC
DESCRIPTION;ALTREP="CID:<FFFF__=0ABBE548DFE235B58f9e8a93d@coffeebean.com>":
 Docente: Paola NarettoCorso a Numero Chiuso\nTutti noi ci troviamo di fron
 te a piccoli o grandi disturbi che limitano i nostri movimenti\, le nostre
  attività.\nNon sempre possiamo delegare ad altri il nostro benessere e al
 lora perché non imparare alcune semplici manipolazioni per alleviare i nos
 tri disagi.\nL'autoshiatsu è un insieme di auto manipolazioni di digitopre
 ssione\, derivate dallo shiatsu\, per alleviare disagi come dolori cervica
 li\, tensioni muscolari\, mal di tesa.
DTSTART:20240207T103000Z
DTEND:20240207T103000Z
GEO:00;0
LOCATION:
ORGANIZER:
SEQUENCE:1
SUMMARY:Auto - Shiatsu
TRANSP:OPAQUE
URL:https://www.unitresanmauro.it/index.php/component/icagenda/98-auto-shia
 tsu/2024-02-07-10-30
END:VEVENT
END:VCALENDAR
